BEGIN:VCALENDAR
VERSION:2.0
PRODID:-//Agro-Sphères - ECPv6.15.20//NONSGML v1.0//EN
CALSCALE:GREGORIAN
METHOD:PUBLISH
X-ORIGINAL-URL:https://agrospheres.eu
X-WR-CALDESC:Évènements pour Agro-Sphères
REFRESH-INTERVAL;VALUE=DURATION:PT1H
X-Robots-Tag:noindex
X-PUBLISHED-TTL:PT1H
BEGIN:VTIMEZONE
TZID:Europe/Paris
BEGIN:DAYLIGHT
TZOFFSETFROM:+0100
TZOFFSETTO:+0200
TZNAME:CEST
DTSTART:20250330T010000
END:DAYLIGHT
BEGIN:STANDARD
TZOFFSETFROM:+0200
TZOFFSETTO:+0100
TZNAME:CET
DTSTART:20251026T010000
END:STANDARD
BEGIN:DAYLIGHT
TZOFFSETFROM:+0100
TZOFFSETTO:+0200
TZNAME:CEST
DTSTART:20260329T010000
END:DAYLIGHT
BEGIN:STANDARD
TZOFFSETFROM:+0200
TZOFFSETTO:+0100
TZNAME:CET
DTSTART:20261025T010000
END:STANDARD
BEGIN:DAYLIGHT
TZOFFSETFROM:+0100
TZOFFSETTO:+0200
TZNAME:CEST
DTSTART:20270328T010000
END:DAYLIGHT
BEGIN:STANDARD
TZOFFSETFROM:+0200
TZOFFSETTO:+0100
TZNAME:CET
DTSTART:20271031T010000
END:STANDARD
END:VTIMEZONE
BEGIN:VEVENT
DTSTART;TZID=Europe/Paris:20260324T093000
DTEND;TZID=Europe/Paris:20260324T123000
DTSTAMP:20260419T165659
CREATED:20260115T155157Z
LAST-MODIFIED:20260115T155602Z
UID:10000106-1774344600-1774355400@agrospheres.eu
SUMMARY:Rencontre Métiers RSE "L'analyse environnementale\,  outil pour structurer votre démarche\, décider\, agir et valoriser vos succès"
DESCRIPTION:Date Heure\nMardi 24 mars 2026 de 9h45 à 12h30\n (Accueil à partir de 9h15. Début de la rencontre 9h45)\n\n\n\nLIEU\nGROUPE SECO – 27 Rue Paul Dubrule  – 59810 Lesquin – Co voiturage proposé\n\n\n\n\nPROGRAMME\n\nPrésentation du groupe SECO\nQu’est-ce que l’analyse environnementale ?\n\nDémystification de l’outil\, utilité\, intérêt\, management\n\n\nPrésentation d’exemples d’analyse environnementale\nQuelle méthodologie déployée pour mon entreprise ?\nEchanges questions / réponses\n\n  \n\nA noter : si certaines entreprises utilisent déjà cet outil\, n’hésitez pas à venir avec pour le présenter\, discuter de vos pratiques voir améliorer l’outil.\n\n\n\n\n>> INSCRIPTIONS <<
URL:https://agrospheres.eu/evenement/rencontre-metiers-rse-lanalyse-environnementale-outil-pour-structurer-votre-demarche-decider-agir-et-valoriser-vos-succes/
LOCATION:GROUPE SECO\, 27 Rue Paul Dubrule\, LESQUIN\, 59810\, France
CATEGORIES:Rencontre Métiers
ATTACH;FMTTYPE=image/jpeg:https://agrospheres.eu/wp-content/uploads/2026/01/A-Rencontres-Metiers-RSE-scaled-e1768491687264.jpg
END:VEVENT
END:VCALENDAR