BEGIN:VCALENDAR
VERSION:2.0
PRODID:-//Agro-Sphères - ECPv6.15.20//NONSGML v1.0//EN
CALSCALE:GREGORIAN
METHOD:PUBLISH
X-WR-CALNAME:Agro-Sphères
X-ORIGINAL-URL:https://agrospheres.eu
X-WR-CALDESC:Évènements pour Agro-Sphères
REFRESH-INTERVAL;VALUE=DURATION:PT1H
X-Robots-Tag:noindex
X-PUBLISHED-TTL:PT1H
BEGIN:VTIMEZONE
TZID:Europe/Paris
BEGIN:DAYLIGHT
TZOFFSETFROM:+0100
TZOFFSETTO:+0200
TZNAME:CEST
DTSTART:20230326T010000
END:DAYLIGHT
BEGIN:STANDARD
TZOFFSETFROM:+0200
TZOFFSETTO:+0100
TZNAME:CET
DTSTART:20231029T010000
END:STANDARD
BEGIN:DAYLIGHT
TZOFFSETFROM:+0100
TZOFFSETTO:+0200
TZNAME:CEST
DTSTART:20240331T010000
END:DAYLIGHT
BEGIN:STANDARD
TZOFFSETFROM:+0200
TZOFFSETTO:+0100
TZNAME:CET
DTSTART:20241027T010000
END:STANDARD
BEGIN:DAYLIGHT
TZOFFSETFROM:+0100
TZOFFSETTO:+0200
TZNAME:CEST
DTSTART:20250330T010000
END:DAYLIGHT
BEGIN:STANDARD
TZOFFSETFROM:+0200
TZOFFSETTO:+0100
TZNAME:CET
DTSTART:20251026T010000
END:STANDARD
BEGIN:DAYLIGHT
TZOFFSETFROM:+0100
TZOFFSETTO:+0200
TZNAME:CEST
DTSTART:20260329T010000
END:DAYLIGHT
BEGIN:STANDARD
TZOFFSETFROM:+0200
TZOFFSETTO:+0100
TZNAME:CET
DTSTART:20261025T010000
END:STANDARD
END:VTIMEZONE
BEGIN:VEVENT
DTSTART;TZID=Europe/Paris:20251014T090000
DTEND;TZID=Europe/Paris:20251014T140000
DTSTAMP:20260422T132338
CREATED:20250731T130533Z
LAST-MODIFIED:20250919T140117Z
UID:10000084-1760432400-1760450400@agrospheres.eu
SUMMARY:COMPLET - Rencontre Maintenance agro/auto chez William Saurin Production
DESCRIPTION:Dans le cadre de leur Club Maintenance\,\n\n\n\n&\n\n\n\nont le plaisir de vous inviter aux\n\n\n\n \nChez \n \nRue de Crécy \n02270 Pouilly-sur-Serre \nle mardi 14 octobre 2025 à 9h00\n(accueil café dès 8h30) \n\n\n\n\nLes Clubs Maintenance d’ARIA Hauts-de-France et d’Agro-Sphères vous proposent de découvrir le site WILLIAM SAURIN PRODUCTION de Pouilly-sur-Serre du Groupe COFIGEO.  \nChaque année\, sont fabriqués 50 000 tonnes de produits : quenelles\, garnitures pour bouchées à la reine\, plats exotiques (couscous\, paëlla\, …) à la marque Garbit et les raviolis\, cannellonis\, tube de sauce tomate à la marque Panzani. \nTrès affectée par la crise énergétique en 2023\, l’usine a mené d’importants travaux pour réaliser des économies d’énergie avec\, notamment\, la récupération de chaleur fatale. \nLe site compte 200 salariés. Le service technique est composé de 38 personnes. \nPROGRAMME :  \n8h30 \n➡️ Accueil café \n9h00 \n➡️ Tour de table \n➡️ Présentation de WILLIAM SAURIN Pouilly-sur-Serre et de son organisation Maintenance – Focus sur « économies d’énergies et récupération de chaleur fatale » par Arnaud MOULIN\, Responsable technique \n➡️ Visite du site \n➡️ Retour en salle et échanges – autour d’un déjeuner \n  \nRENSEIGNEMENTS :\n\n\n \naurelie.menard@agrospheres.eu\n07.57.49.22.88\n \nvplantard@ariahdf.fr \n06.66.86.69.18\n \n\n\n  \n\n\n\n\n 
URL:https://agrospheres.eu/evenement/rencontre-maintenance-agro-auto-chez-william-saurin-production/
LOCATION:WILLIAM SAURIN\, 26 route de Crécy\, POUILLY SUR SERRE\, 02270\, France
CATEGORIES:Rencontre Métiers
ATTACH;FMTTYPE=image/jpeg:https://agrospheres.eu/wp-content/uploads/2024/07/Rencontres-Maintenance-agro-auto-e1720187735529.jpg
END:VEVENT
BEGIN:VEVENT
DTSTART;TZID=Europe/Paris:20241114T100000
DTEND;TZID=Europe/Paris:20241114T123000
DTSTAMP:20260422T132338
CREATED:20240702T081222Z
LAST-MODIFIED:20241014T084002Z
UID:10000019-1731578400-1731587400@agrospheres.eu
SUMMARY:Jeudi Re-Créatif chez WILLIAM SAURIN
DESCRIPTION:  \nDidier HUE\, Président d’Agro-Sphères \n\n et\n\nChristophe BERTIN\, Directeur d’établissement\nGroupe Cofigeo – William Saurin\n\nont le plaisir de vous convier\nle jeudi 14 novembre 2024 à 10h00\n(accueil à partir de 9h30)\n\n\n\nchez\nWilliam Saurin\n26\, Route de Crécy\n02270 Pouilly sur Serre\n\n\n\n\n\n\n\nSpécialiste des plats cuisinés en conserve depuis 1898\, l’entreprise William Saurin a toujours eu la volonté de proposer des produits élaborés à un prix accessible à tous.\n\nDepuis sa création\, la marque mise sur l’innovation. Après la conserve\, l’entreprise a lancé les barquettes en aluminium au rayon appertisé puis révolutionne le marché avec la sortie en 1999 de la première barquette plastique micro-ondable puis la cocotte.\n\nDans l’Aisne\, le site William Saurin de Pouilly sur Serre compte 200 salariés. Chaque année\, sont fabriqués 50 000 tonnes de produits : quenelles\, garnitures pour bouchées à la reine\, plats exotiques (couscous\, paëlla\, …) à la marque Garbit et les plats italiens à la marque Panzani.\n\nA Château-Thierry\, l’entreprise possède un entrepôt de stockage composé de 50 personnes qui expédie chaque année 120 000 tonnes de produits.\n\nAvec l’ensemble de ses marques (Panzani\, Garbit\, Petitjean\, William Saurin)\, la société couvre un très large champ de recettes.\n\nAu total\, le groupe COFIGEO dont WILLIAM SAURIN fait partie\, emploi en France plus de 1 200 personnes et fabrique plus de 100 000 tonnes de produits dans ses usines.\n\n\n\n\n>> INSCRIPTIONS >>\n  \n\n\n\n\n\n 
URL:https://agrospheres.eu/evenement/jeudi-re-creatif-chez-william-saurin/
LOCATION:WILLIAM SAURIN\, 26 route de Crécy\, POUILLY SUR SERRE\, 02270\, France
CATEGORIES:Jeudi Re-Créatif
ATTACH;FMTTYPE=image/jpeg:https://agrospheres.eu/wp-content/uploads/2024/07/WILLIAM-SAURIN.jpg
ORGANIZER;CN="Agro-Sph%C3%A8res":MAILTO:contact@agrospheres.eu
END:VEVENT
END:VCALENDAR